BEGIN:VCALENDAR
VERSION:2.0
PRODID:-//wp-events-plugin.com//7.2.3.1//EN
TZID:Europe/Berlin
X-WR-TIMEZONE:Europe/Berlin
BEGIN:VEVENT
UID:15@selber-mint-tag.de
DTSTART;TZID=Europe/Berlin:20260210T103000
DTEND;TZID=Europe/Berlin:20260210T140000
DTSTAMP:20260119T104848Z
URL:https://www.selber-mint-tag.de/exkursionen/thermische-analyse/
SUMMARY:LINSEIS - Heiße Entdeckungen: Wie Wärme Materialien verändert
DESCRIPTION:\n\n\n&nbsp\;\n\n&nbsp\;\n\nUnsichtbare Prozesse sichtbar mache
 n: Wie Materialien reagieren\n\nTaucht ein in die spannende Welt der Mater
 ialphysik und erlebt\, wie sich scheinbar unsichtbare Prozesse messbar und
  verständlich machen lassen. In dieser Exkursion erhaltet ihr einen praxi
 snahen Einblick in moderne Messmethoden\, mit denen Materialien in Forschu
 ng und Industrie untersucht werden.\n\nNach einer kurzen Firmenpräsentati
 on und einem Rundgang durch ausgewählte Bereiche erwarten euch drei ansch
 auliche Experimente\, die zentrale physikalische Prinzipien greifbar mache
 n:\n\n 	Wärmeleitung und Temperaturausbreitung:\nErfahrt\, wie schnell si
 ch Wärme in unterschiedlichen Materialien ausbreitet und wie man diese Ei
 genschaft mit einer Laserflash-Analyse bestimmt – einem Messverfahren\, 
 das in der Materialentwicklung und Qualitätskontrolle eine zentrale Rolle
  spielt.\n 	Masseänderungen bei chemischen Reaktionen:\nBeobachtet\, wie 
 sich Materialien beim Erhitzen oder Verbrennen verändern. Mit einer Therm
 owaage wird sichtbar\, dass Stoffe dabei schwerer oder leichter werden kö
 nnen – und wie chemische Reaktionen und Temperatur die Masse beeinflusse
 n.\n 	Oberflächen und Benetzungseigenschaften:\nEntdeckt\, wie Flüssigke
 iten mit unterschiedlichen Oberflächen wechselwirken. Anhand von Kontaktw
 inkelmessungen wird deutlich\, warum Wasser auf manchen Materialien verlä
 uft\, während es auf anderen abperlt – ein entscheidender Faktor in Bes
 chichtung\, Reinigung und Materialauswahl.\n\nErgänzt werden die Experime
 nte durch Einblicke in unsere Labore und Messgeräte\, in denen solche Eff
 ekte präzise analysiert werden. Eine kurze Pause bietet Gelegenheit zum A
 ustausch und zum Stellen von Fragen.\n\nZusätzlich bekommt ihr bei einer 
 Laborführung Einblicke in die Analysemethoden\, mit denen wir Materialien
  bis ins Detail untersuchen. Eine Pause bietet Gelegenheit\, euch auszutau
 schen und neue Energie zu tanken.\n\n&nbsp\;\n\nZeitplan:\n\n10:30 – 10:
 45 Uhr: Begrüßung &amp\; Firmenpräsentation\n10:45 – 11:45 Uhr: Rundg
 ang durch das Unternehmen\n11:45 – 12:15 Uhr: Experiment 1: Wärmeleitun
 g und Temperaturausbreitung\, Experiment 2: Masseänderung\, Experiment 3:
  Oberflächen und Benetzungseigenschaften\n12:15 – 13:00 Uhr: Pause\n13:
 00 – 13:30 Uhr: Fortsetzung Experimentierphase\n13:30 – 13:55 Uhr: Vor
 stellung Berufe &amp\; Fragerunde\n\nWarum teilnehmen?\nDieser Tag ist per
 fekt für alle\, die technische Zusammenhänge verstehen und erleben möch
 ten. Entdeckt spannende Berufsmöglichkeiten und taucht ein in die Welt de
 r MINT-Berufe! Wir freuen uns auf euch.\n\nMaximale Teilnehmerzahl: 20 Per
 sonen\n\n
LOCATION:Linseis Messgeräte GmbH\, Vielitzerstrasse 43\, Selb\, 95100\, De
 utschland
X-APPLE-STRUCTURED-LOCATION;VALUE=URI;X-ADDRESS=Vielitzerstrasse 43\, Selb\
 , 95100\, Deutschland;X-APPLE-RADIUS=100;X-TITLE=Linseis Messgeräte GmbH:
 geo:0,0
END:VEVENT
BEGIN:VTIMEZONE
TZID:Europe/Berlin
X-LIC-LOCATION:Europe/Berlin
BEGIN:STANDARD
DTSTART:20251026T020000
TZOFFSETFROM:+0200
TZOFFSETTO:+0100
TZNAME:CET
END:STANDARD
END:VTIMEZONE
END:VCALENDAR